BEGIN:VCALENDAR
VERSION:2.0
PRODID:-//Tabernaculo El Redentor - ECPv5.3.1.1//NONSGML v1.0//EN
CALSCALE:GREGORIAN
METHOD:PUBLISH
X-WR-CALNAME:Tabernaculo El Redentor
X-ORIGINAL-URL:https://www.elredentor.com
X-WR-CALDESC:Eventos para Tabernaculo El Redentor
BEGIN:VTIMEZONE
TZID:America/Los_Angeles
BEGIN:DAYLIGHT
TZOFFSETFROM:-0800
TZOFFSETTO:-0700
TZNAME:PDT
DTSTART:20250309T100000
END:DAYLIGHT
BEGIN:STANDARD
TZOFFSETFROM:-0700
TZOFFSETTO:-0800
TZNAME:PST
DTSTART:20251102T090000
END:STANDARD
END:VTIMEZONE
BEGIN:VEVENT
DTSTART;TZID=America/Los_Angeles:20251031T193000
DTEND;TZID=America/Los_Angeles:20251031T210000
DTSTAMP:20260422T124104
CREATED:20251031T234930Z
LAST-MODIFIED:20251031T235519Z
UID:36048-1761939000-1761944400@www.elredentor.com
SUMMARY:Celebrando la Reforma - Cinco Solas
DESCRIPTION:Las cinco solas de la Reforma protestante son cinco frases en latín que resumen los principios teológicos fundamentales: Sola Scriptura (solo por medio de la Escritura)\, Sola Fide (solo por la fe)\, Sola Gratia (solo por la gracia)\, Solus Christus (solo Cristo) y Soli Deo Gloria (solo a Dios la gloria). Esta noche tendremos un culto dedicado a esta celebración\, con actividades especiales para los niños. ¡Te esperamos!
URL:https://www.elredentor.com/evento/celebrando-la-reforma-cinco-solas/
LOCATION:TBB El Redentor\, 2551 East 49 Avenue\, Vancouver\, British Columbia\, Canadá
ATTACH;FMTTYPE=image/jpeg:https://www.elredentor.com/wp-content/uploads/2025/10/martin-lutero.jpg
END:VEVENT
END:VCALENDAR