BEGIN:VCALENDAR
VERSION:2.0
PRODID:-//Tabernaculo El Redentor - ECPv5.3.1.1//NONSGML v1.0//EN
CALSCALE:GREGORIAN
METHOD:PUBLISH
X-WR-CALNAME:Tabernaculo El Redentor
X-ORIGINAL-URL:https://www.elredentor.com
X-WR-CALDESC:Eventos para Tabernaculo El Redentor
BEGIN:VTIMEZONE
TZID:America/Los_Angeles
BEGIN:DAYLIGHT
TZOFFSETFROM:-0800
TZOFFSETTO:-0700
TZNAME:PDT
DTSTART:20250309T100000
END:DAYLIGHT
BEGIN:STANDARD
TZOFFSETFROM:-0700
TZOFFSETTO:-0800
TZNAME:PST
DTSTART:20251102T090000
END:STANDARD
END:VTIMEZONE
BEGIN:VEVENT
DTSTART;TZID=America/Los_Angeles:20250725T183000
DTEND;TZID=America/Los_Angeles:20250725T210000
DTSTAMP:20260423T115721
CREATED:20250711T235945Z
LAST-MODIFIED:20250711T235945Z
UID:35559-1753468200-1753477200@www.elredentor.com
SUMMARY:Jóvenes Adultos 19+
DESCRIPTION:El viernes 25 de Julio a las 07:30 p.m. los Jóvenes Adultos tendrán una noche divertida e interesante aprendiendo del tema «La Biblia dice la verdad?«. \nJóvenes entre 19 a 35 años son bienvenidos. No olvides invitar a un amigo y disfrutemos del café alegria juntos\, los esperamos. \nSiguenos en Instagram:  JóvenesAdultos
URL:https://www.elredentor.com/evento/jovenes-adultos-jovenes-adultos-la-biblia-dice-la-verdad-3/
LOCATION:TBB El Redentor\, 2551 East 49 Avenue\, Vancouver\, British Columbia\, Canadá
CATEGORIES:Ministerio de Jóvenes Adultos
ATTACH;FMTTYPE=image/jpeg:https://www.elredentor.com/wp-content/uploads/2025/06/JA-e1749230773482.jpg
END:VEVENT
END:VCALENDAR