BEGIN:VCALENDAR
VERSION:2.0
PRODID:-//Tabernaculo El Redentor - ECPv5.3.1.1//NONSGML v1.0//EN
CALSCALE:GREGORIAN
METHOD:PUBLISH
X-WR-CALNAME:Tabernaculo El Redentor
X-ORIGINAL-URL:https://www.elredentor.com
X-WR-CALDESC:Eventos para Tabernaculo El Redentor
BEGIN:VTIMEZONE
TZID:America/Los_Angeles
BEGIN:DAYLIGHT
TZOFFSETFROM:-0800
TZOFFSETTO:-0700
TZNAME:PDT
DTSTART:20250309T100000
END:DAYLIGHT
BEGIN:STANDARD
TZOFFSETFROM:-0700
TZOFFSETTO:-0800
TZNAME:PST
DTSTART:20251102T090000
END:STANDARD
END:VTIMEZONE
BEGIN:VEVENT
DTSTART;TZID=America/Los_Angeles:20250718T183000
DTEND;TZID=America/Los_Angeles:20250718T210000
DTSTAMP:20260423T114310
CREATED:20250711T235501Z
LAST-MODIFIED:20250711T235501Z
UID:35554-1752863400-1752872400@www.elredentor.com
SUMMARY:Jóvenes en Victoria
DESCRIPTION:El viernes 18 de Julio a las 06:30 p.m. los Jóvenes en Victoria tendrán una noche divertida fuera de la iglesia\, aprendiendo de un tema:  «Sorpresa». \nVen e invita a tus amigos!!! \nVisitanos en Instagram: JovenesEnVictoria
URL:https://www.elredentor.com/evento/jovenes-en-victoria-tema-sorpresa/
LOCATION:TBB El Redentor\, 2551 East 49 Avenue\, Vancouver\, British Columbia\, Canadá
CATEGORIES:Ministerio de Jóvenes en Victoria
ATTACH;FMTTYPE=image/jpeg:https://www.elredentor.com/wp-content/uploads/2025/03/JV-March.jpg
END:VEVENT
END:VCALENDAR