BEGIN:VCALENDAR
VERSION:2.0
PRODID:-//Tabernaculo El Redentor - ECPv5.3.1.1//NONSGML v1.0//EN
CALSCALE:GREGORIAN
METHOD:PUBLISH
X-WR-CALNAME:Tabernaculo El Redentor
X-ORIGINAL-URL:https://www.elredentor.com
X-WR-CALDESC:Eventos para Tabernaculo El Redentor
BEGIN:VTIMEZONE
TZID:America/Los_Angeles
BEGIN:DAYLIGHT
TZOFFSETFROM:-0800
TZOFFSETTO:-0700
TZNAME:PDT
DTSTART:20200308T100000
END:DAYLIGHT
BEGIN:STANDARD
TZOFFSETFROM:-0700
TZOFFSETTO:-0800
TZNAME:PST
DTSTART:20201101T090000
END:STANDARD
END:VTIMEZONE
BEGIN:VEVENT
DTSTART;TZID=America/Los_Angeles:20200829T110000
DTEND;TZID=America/Los_Angeles:20200829T130000
DTSTAMP:20260419T071241
CREATED:20180103T080201Z
LAST-MODIFIED:20200809T212419Z
UID:3104-1598698800-1598706000@www.elredentor.com
SUMMARY:Reunión de líderes
DESCRIPTION:En este evento se reunirán todos los líderes de los ministerios de nuestra Iglesia\, esperamos que cada persona a cargo nos acompañe. ¡Gracias por el trabajo de cada uno de ustedes para el Señor! \n«Por tanto\, mirad por vosotros\, y por todo el rebaño en que el Espíritu Santo os ha puesto por obispos\, para apacentar la iglesia del Señor\, la cual él ganó por su propia sangre»(Hechos 20:28)
URL:https://www.elredentor.com/evento/reunion-de-lideres/
LOCATION:TBB El Redentor\, 2551 East 49 Avenue\, Vancouver\, British Columbia\, Canadá
CATEGORIES:Ministerios
ATTACH;FMTTYPE=image/jpeg:https://www.elredentor.com/wp-content/uploads/2018/01/reunion-lideres.jpg
END:VEVENT
END:VCALENDAR