BEGIN:VCALENDAR
VERSION:2.0
PRODID:-//Tabernaculo El Redentor - ECPv5.3.1.1//NONSGML v1.0//EN
CALSCALE:GREGORIAN
METHOD:PUBLISH
X-WR-CALNAME:Tabernaculo El Redentor
X-ORIGINAL-URL:https://www.elredentor.com
X-WR-CALDESC:Eventos para Tabernaculo El Redentor
BEGIN:VTIMEZONE
TZID:America/Los_Angeles
BEGIN:DAYLIGHT
TZOFFSETFROM:-0800
TZOFFSETTO:-0700
TZNAME:PDT
DTSTART:20250309T100000
END:DAYLIGHT
BEGIN:STANDARD
TZOFFSETFROM:-0700
TZOFFSETTO:-0800
TZNAME:PST
DTSTART:20251102T090000
END:STANDARD
END:VTIMEZONE
BEGIN:VEVENT
DTSTART;TZID=America/Los_Angeles:20250614T100000
DTEND;TZID=America/Los_Angeles:20250614T120000
DTSTAMP:20260423T085055
CREATED:20250606T175006Z
LAST-MODIFIED:20250606T175006Z
UID:35384-1749895200-1749902400@www.elredentor.com
SUMMARY:Hombres de Valor
DESCRIPTION:El Sabádo 14 de Jumio a las 10:00 a.m. los Hombres de Valor tendrán una mañana interesante\, aprendiendo de los tema:  «Masculinidad«\, no te lo pierdas. \nEl evento será en Bobolink Park. Ven e invita a un amigo!!!
URL:https://www.elredentor.com/evento/hombres-de-valor-masculinidad/
LOCATION:Bobolink Park\, 2510 Hoylake Ave\, Vancouver\, British Columbia\, V5S 2L5\, Canadá
CATEGORIES:Ministerio de Hombres de Valor
ATTACH;FMTTYPE=image/jpeg:https://www.elredentor.com/wp-content/uploads/2025/06/HV-Junr-e1749232147525.jpg
GEO:49.2155999;-123.0564039
X-APPLE-STRUCTURED-LOCATION;VALUE=URI;X-ADDRESS=Bobolink Park 2510 Hoylake Ave Vancouver British Columbia V5S 2L5 Canadá;X-APPLE-RADIUS=500;X-TITLE=2510 Hoylake Ave:geo:-123.0564039,49.2155999
END:VEVENT
END:VCALENDAR