BEGIN:VCALENDAR
VERSION:2.0
PRODID:-//Tabernaculo El Redentor - ECPv5.3.1.1//NONSGML v1.0//EN
CALSCALE:GREGORIAN
METHOD:PUBLISH
X-WR-CALNAME:Tabernaculo El Redentor
X-ORIGINAL-URL:https://www.elredentor.com
X-WR-CALDESC:Eventos para Tabernaculo El Redentor
BEGIN:VTIMEZONE
TZID:America/Los_Angeles
BEGIN:DAYLIGHT
TZOFFSETFROM:-0800
TZOFFSETTO:-0700
TZNAME:PDT
DTSTART:20250309T100000
END:DAYLIGHT
BEGIN:STANDARD
TZOFFSETFROM:-0700
TZOFFSETTO:-0800
TZNAME:PST
DTSTART:20251102T090000
END:STANDARD
END:VTIMEZONE
BEGIN:VEVENT
DTSTART;TZID=America/Los_Angeles:20251101T080000
DTEND;TZID=America/Los_Angeles:20251101T100000
DTSTAMP:20260423T011448
CREATED:20251102T215447Z
LAST-MODIFIED:20251102T215447Z
UID:36099-1761984000-1761991200@www.elredentor.com
SUMMARY:Hombres de valor
DESCRIPTION:El Sábado 01 de Noviembre a las 08:00 a.m. Los Hombres de Valor tendrán su reunión mensual con un tema interesante y de edificación en su vida espiritual\, no te lo pierdas. \nVen e invita a un amigo!!
URL:https://www.elredentor.com/evento/hombres-de-valor-noviembre/
LOCATION:TBB El Redentor\, 2551 East 49 Avenue\, Vancouver\, British Columbia\, Canadá
CATEGORIES:Ministerio de Hombres de Valor
ATTACH;FMTTYPE=image/jpeg:https://www.elredentor.com/wp-content/uploads/2025/09/HV-sep.jpg
END:VEVENT
END:VCALENDAR